BEGIN:VCALENDAR
VERSION:2.0
PRODID:-//Dunes Academy - ECPv6.15.20//NONSGML v1.0//EN
CALSCALE:GREGORIAN
METHOD:PUBLISH
X-ORIGINAL-URL:https://www.dunesacademy.com
X-WR-CALDESC:Events for Dunes Academy
REFRESH-INTERVAL;VALUE=DURATION:PT1H
X-Robots-Tag:noindex
X-PUBLISHED-TTL:PT1H
BEGIN:VTIMEZONE
TZID:Asia/Kolkata
BEGIN:STANDARD
TZOFFSETFROM:+0530
TZOFFSETTO:+0530
TZNAME:IST
DTSTART:20230101T000000
END:STANDARD
END:VTIMEZONE
BEGIN:VEVENT
DTSTART;TZID=Asia/Kolkata:20240126T073000
DTEND;TZID=Asia/Kolkata:20240126T110000
DTSTAMP:20260422T015734
CREATED:20240107T092141Z
LAST-MODIFIED:20240118T085524Z
UID:216-1706254200-1706266800@www.dunesacademy.com
SUMMARY:Republic Day
DESCRIPTION:Independence Day Celebration of India\nIndependence Day in India is a momentous occasion that resonates with the spirit of freedom and national pride. As the nation commemorates the day it gained independence from British rule\, the celebrations unfold in a tapestry of traditions\, customs\, and contemporary trends that reflect the diverse essence of India. Let’s delve into the multifaceted aspects of the Independence Day celebration\, from its historical roots to its impact on the present-day. \nI. Introduction\nA. Brief Overview of Independence Day\nIndependence Day\, celebrated on August 15th every year\, marks the end of British colonial rule in India. It is a day of remembrance and gratitude for the sacrifices made by freedom fighters. \nB. Significance of Independence Day in India\nBeyond being a national holiday\, Independence Day is a symbol of unity and freedom. It serves as a reminder of the values that underpin the nation’s identity. \nII. Historical Background\nA. Origin and History of Independence Day\nThe roots of Independence Day can be traced back to the struggle for freedom led by iconic figures such as Mahatma Gandhi. The day was officially declared after years of relentless efforts and movements. \nB. Key Events Leading to India’s Independence\nHighlighting pivotal moments like the Salt March and Quit India Movement\, the journey to independence was fraught with challenges\, making the celebration all the more meaningful. \nIII. Preparations for the Celebration\nA. Weeks Leading Up to Independence Day\nThe anticipation builds in the weeks preceding Independence Day\, with various activities such as rehearsals\, flag-making competitions\, and cultural programs taking place across the nation. \nB. Government and Public Initiatives\nGovernment bodies\, along with civic organizations and individuals\, actively participate in organizing events and ensuring a grand celebration of the national occasion. \nIV. Traditional Customs and Practices\nA. Flag Hoisting Ceremonies\nThe unfurling of the national flag is a cornerstone of Independence Day celebrations. From schools to government institutions\, the tricolor takes center stage. \nB. Patriotic Songs and Cultural Performances\nMusic and dance play a vital role in expressing patriotic fervor. Traditional performances and renditions of patriotic songs resonate throughout the country. \nC. Decorations and Festive Spirit\nStreets adorned with the national flag\, buildings illuminated\, and a palpable sense of pride create a festive atmosphere that engulfs the entire nation. \nV. National Importance\nA. Reflection on Unity and Diversity\nIndependence Day serves as a reminder of India’s diverse cultural heritage\, emphasizing the unity that binds together people of different backgrounds and traditions. \nB. The Role of Independence Day in Fostering Patriotism\nThe celebration instills a sense of patriotism\, encouraging citizens to reflect on the nation’s progress and contribute to its development. \nVI. Independence Day Parade\nA. Showcase of India’s Military Strength\nThe grand parade in the capital\, New Delhi\, showcases India’s military prowess\, featuring impressive displays and demonstrations. \nB. Participation of Different States and Cultural Diversity\nStates from across India contribute to the parade\, showcasing their unique cultural heritage\, traditional attire\, and folk art. \nVII. Educational Significance\nA. Inclusion of Independence Day in School Curriculum\nSchools play a pivotal role in educating the younger generation about the significance of Independence Day\, fostering a sense of pride and responsibility. \nB. Learning About India’s Struggle for Freedom\nIndependence Day becomes a learning opportunity\, with students gaining insights into the sacrifices made by freedom fighters through various educational activities. \nVIII. Impact on Tourism\nA. Increased Tourist Activities During Independence Day\nHistorical sites and monuments witness a surge in tourist activities as visitors partake in the patriotic fervor and explore India’s rich history. \nB. Historical Sites and Monuments as Popular Destinations\nIconic landmarks such as the Red Fort become focal points for both locals and tourists\, hosting special events and attracting attention on Independence Day. \nIX. Contemporary Celebrations\nA. Technological Innovations in Celebrations\nAdvancements in technology have led to virtual celebrations\, allowing people worldwide to witness and participate in Independence Day festivities. \nB. Social Media and Virtual Events\nThe widespread use of social media platforms enables people to share their celebrations\, fostering a global sense of unity among the Indian diaspora. \nX. Challenges and Controversies\nA. Balancing Celebration With Societal Challenges\nWhile Independence Day is a time of celebration\, it also prompts reflection on ongoing societal issues\, emphasizing the need for balance between festivity and addressing challenges. \nB. Controversial Aspects of Independence Day\nCertain aspects\, such as debates on nationalism and expressions of dissent\, add layers of complexity to the celebration\, sparking discussions on its meaning. \nXI. Global Observance\nA. How Non-Resident Indians (NRIs) Celebrate\nThe Indian diaspora worldwide actively participates in Independence Day celebrations\, organizing events that reflect their connection to their homeland. \nB. Recognition of India’s Independence Day Worldwide\nSeveral countries acknowledge and celebrate India’s Independence Day\, underscoring its global significance and impact.
URL:https://www.dunesacademy.com/event/republic-day/
LOCATION:Dunes Academy – 837
CATEGORIES:Events
ATTACH;FMTTYPE=image/jpeg:https://www.dunesacademy.com/wp-content/uploads/2023/12/indian-independence-day-concept-background-with-ashoka-wheel.jpg
END:VEVENT
END:VCALENDAR