BEGIN:VCALENDAR
VERSION:2.0
PRODID:-//Dunes Academy - ECPv6.15.20//NONSGML v1.0//EN
CALSCALE:GREGORIAN
METHOD:PUBLISH
X-WR-CALNAME:Dunes Academy
X-ORIGINAL-URL:https://www.dunesacademy.com
X-WR-CALDESC:Events for Dunes Academy
REFRESH-INTERVAL;VALUE=DURATION:PT1H
X-Robots-Tag:noindex
X-PUBLISHED-TTL:PT1H
BEGIN:VTIMEZONE
TZID:Asia/Kolkata
BEGIN:STANDARD
TZOFFSETFROM:+0530
TZOFFSETTO:+0530
TZNAME:IST
DTSTART:20230101T000000
END:STANDARD
END:VTIMEZONE
BEGIN:VEVENT
DTSTART;TZID=Asia/Kolkata:20240727T080000
DTEND;TZID=Asia/Kolkata:20240802T133000
DTSTAMP:20260421T104913
CREATED:20240716T030849Z
LAST-MODIFIED:20240719T070504Z
UID:2843-1722067200-1722605400@www.dunesacademy.com
SUMMARY:Periodic Test Schedule (PT-1)
DESCRIPTION:Dear Students and Parents\, \nWe are pleased to announce the schedule for Periodic Test-1 (PT-1) for the academic year 2024–25. The PT-1 exams are scheduled to be conducted from July 27th\, 2024\, to August 2nd\, 2024. These tests are designed to assess the students’ understanding and grasp of the subjects taught so far. \nImportant Dates:\n\nStart Date: July 27\, 2024\nEnd Date: August 2\, 2024\n\nKey Points:\n\nEnsure that students revise all the topics covered in their respective subjects.\nThe detailed timetable for each class is given.\nStudents should arrive at school on time and be seated in their respective examination halls by 8:30 a.m.\nIt is essential for students to bring their own stationery\, including pens\, pencils\, erasers\, and any other required materials.\nParents are requested to encourage and support their children during this period to help them perform their best.\n\nWe wish all our students the very best for their exams. Let’s strive for excellence and make the most of this opportunity to showcase our hard work and dedication. \nBest regards\, \nDunes Academy \n\nDUNES ACADEMY\, AAU\nP.T. – I (DATE SHEET)\n\n\n\nS.n.\nDATE\nNUR-KG\nPREP TO 2ND\n3RD TO 5TH\n6TH – 7TH\n8TH – 9TH\n10TH\n11TH SCI.\n11TH COM.\n\n\n\n\n1\n27-07-2024\nEVS\nHINDI\nENGLISH\nCOMPUTER/SANSKRIT\nMATHS\nS.ST\nENGLISH\nHINDI\n\n\n2\n29-07-2024\nENGLISH\nENGLISH\nMATHS\nS\,ST.\nSCIENCE\nMATHS\nHINDI\nENGLISH\n\n\n3\n30-07-2024\nHINDI\nMATHS\nHINDI\nENGLISH\nHINDI\nSANSKRIT\nPHYSICS\nBUSINESS STUDIES\n\n\n4\n31-07-2024\nMATH\nEVS\nCOMPUTER\nMATHS\nENGLISH\nSCIENCE\nCHEMISTRY\nACCOUNTANCY\n\n\n5\n01-08-2024\n\nCOMPUTER\nEVS\nSCIENCE\nS.ST\nHINDI\nMATHS/BIO\nMATHS\n\n\n6\n02-08-2024\n\n\n\nHINDI\nCOMPUTER/SANSKRIT\nENGLISH\n\n\n\n\n\nImportant Instructions:\n\nStationery: Bring your own stationery for exams (pencil\, eraser\, sharpener\, scale\, crayons\, etc.).\nLate Exams: No exam will be entertained after the scheduled date.\nEarly Leave: No child is allowed to leave early during exam dates.\nAdmit Card: An admit card is important for appearing in exams.\nResult Declaration: The PTM for the result declaration will be on August 10\, 2024.\nQueries: If you have any queries related to the exam or syllabus\, come and meet before exams. After the exam\, no queries will be entertained.\n\n 
URL:https://www.dunesacademy.com/event/periodic-test-schedule-pt-1/
CATEGORIES:Examinations
ATTACH;FMTTYPE=image/webp:https://www.dunesacademy.com/wp-content/uploads/2024/07/Dunes-Academy-Perodic-Schedule.webp
END:VEVENT
BEGIN:VEVENT
DTSTART;TZID=Asia/Kolkata:20240810T090000
DTEND;TZID=Asia/Kolkata:20240810T120000
DTSTAMP:20260421T104913
CREATED:20240808T065828Z
LAST-MODIFIED:20240808T071244Z
UID:4584-1723280400-1723291200@www.dunesacademy.com
SUMMARY:Parent Teacher Meeting
DESCRIPTION:Parent-Teacher Meeting at Dunes Academy on 10th August 2024: A Step Towards Holistic Development\nOn the 10th of August\, 2024\, Dunes Academy will hold its much-anticipated Parent-Teacher Meeting (PTM)\, a cornerstone event that fosters collaboration between parents and teachers to enhance the educational experience and overall development of students. This meeting\, scheduled between 10:00 AM and 12:00 PM\, promises to be a crucial platform for open dialogue and mutual understanding. \nImportance of Parent-Teacher Meetings\nParent-Teacher Meetings are integral to a student’s academic journey. They provide an opportunity for teachers to share insights into a child’s progress\, strengths\, and areas needing improvement. For parents\, these meetings offer a chance to discuss their child’s behavior\, learning habits\, and any concerns they might have. The collaboration between parents and teachers ensures a supportive and enriching environment for students\, promoting their academic and personal growth. \nAgenda for the Meeting\n\nStudent Progress Reports: Teachers will provide detailed reports on each student’s academic performance\, highlighting achievements and areas for improvement.\nBehavioral and Social Development: Discussions will focus on the social skills and behavioral development of students\, addressing any issues and recognizing positive traits.\nParental Feedback: Parents will have the opportunity to share their observations and feedback\, which is vital for tailoring teaching strategies to meet each child’s unique needs.\nFuture Goals and Strategies: Setting short-term and long-term goals for students\, and discussing strategies to help them achieve these objectives.\n\nThe Role of Parents\nParents are encouraged to attend the meeting with their wards. Their presence signifies their commitment to their child’s education and their willingness to collaborate with the school. Engaging in these discussions helps parents stay informed about their child’s school life and reinforces the importance of education in their home environment. \nBenefits for Students\nStudents benefit immensely from the collaborative efforts of their parents and teachers. The constructive feedback they receive helps them understand their strengths and areas for growth. Moreover\, witnessing the partnership between their parents and teachers can motivate students to take their studies seriously and strive for excellence. \nConclusion\nThe upcoming Parent-Teacher Meeting at Dunes Academy is more than just a formal gathering; it is a vital component of the school’s commitment to providing quality education and nurturing well-rounded individuals. By working together\, parents and teachers can ensure that each student reaches their full potential\, both academically and personally. \nWe look forward to seeing all parents on the 10th of August\, 2024\, and making this event a productive and enlightening experience for everyone involved.
URL:https://www.dunesacademy.com/event/parent-teacher-meeting/
CATEGORIES:Events
ATTACH;FMTTYPE=image/webp:https://www.dunesacademy.com/wp-content/uploads/2024/07/Eighth-Grade.webp
END:VEVENT
BEGIN:VEVENT
DTSTART;TZID=Asia/Kolkata:20240815T080000
DTEND;TZID=Asia/Kolkata:20240815T100000
DTSTAMP:20260421T104913
CREATED:20240706T101405Z
LAST-MODIFIED:20240716T033040Z
UID:2797-1723708800-1723716000@www.dunesacademy.com
SUMMARY:Independence Day Celebration Event Plan
DESCRIPTION:Event Activities: \n\n\nFlag Hoisting Ceremony: \n\nBegin the event with a flag-hoisting ceremony led by a respected member of the Dunes Academy staff or a guest speaker.\nPlay the Indian national anthem\, “Jana Gana Mana\,” and encourage everyone to sing along.\n\n\n\nInteractive Learning Session: \n\nOrganize an age-appropriate session on India’s Independence Day.\nThis could involve a presentation about the history of the Indian independence movement\, including key figures and events.\nConsider incorporating quizzes\, interactive games\, or storytelling to keep younger students engaged.\n\n\n\nCultural Performances: \n\nShowcase India’s diverse culture through student presentations like traditional dances\, songs\, or poems in various Indian languages.\nYou can even encourage students to wear traditional clothing from different regions of India.\n\n\n\nArt Competition: \n\nOrganize an art competition based on the theme of Independence Day.\nProvide art materials and allow students to express their creativity through drawings\, paintings\, or crafts.\nDisplay the artwork during the event and announce winners with small prizes.\n\n\n\nRefreshments: \n\nServe traditional Indian snacks and refreshments after the activities.\nThis can be a potluck-style event where families contribute a dish to share.
URL:https://www.dunesacademy.com/event/independence-day-celebration-event-plan/
CATEGORIES:Events
ATTACH;FMTTYPE=image/webp:https://www.dunesacademy.com/wp-content/uploads/2024/07/Independence-Day-celebration.webp
END:VEVENT
BEGIN:VEVENT
DTSTART;TZID=Asia/Kolkata:20240819T090000
DTEND;TZID=Asia/Kolkata:20240819T100000
DTSTAMP:20260421T104913
CREATED:20240706T103611Z
LAST-MODIFIED:20240716T033345Z
UID:2801-1724058000-1724061600@www.dunesacademy.com
SUMMARY:Celebrate the Unbreakable Bond: Raksha Bandhan 2024!
DESCRIPTION:Rakhi Making Workshop: \n\nOrganize a Rakhi making session\, especially for younger siblings. Provide materials like colorful threads\, beads\, and buttons.\nThis can be a fun and creative activity for them to personalize their Rakhis.\n\n\n\nRakhi Tying Ceremony: \n\nThe heart of the celebration! Sisters will tie Rakhis on their brothers’ wrists while reciting auspicious mantras or prayers.\nBrothers can offer gifts and sweets to their sisters in return.\n\n\n\nFamily Feast: \n\nEnjoy a delicious vegetarian meal together.\nThis can be a potluck-style event where everyone contributes a dish\, or prepare a special meal together beforehand.
URL:https://www.dunesacademy.com/event/celebrate-the-unbreakable-bond-raksha-bandhan-2024/
CATEGORIES:Cultural
ATTACH;FMTTYPE=image/webp:https://www.dunesacademy.com/wp-content/uploads/2024/07/Raksha-Bandhan.webp
END:VEVENT
BEGIN:VEVENT
DTSTART;TZID=Asia/Kolkata:20240826T090000
DTEND;TZID=Asia/Kolkata:20240826T100000
DTSTAMP:20260421T104913
CREATED:20240706T103324Z
LAST-MODIFIED:20240716T033806Z
UID:2799-1724662800-1724666400@www.dunesacademy.com
SUMMARY:Celebrate the Joyful Arrival of Lord Krishna!
DESCRIPTION:Activities: \n\nPuja and Abhishek:\n\nA devotional ceremony offering prayers and bathing the Krishna idol with holy water\, milk\, and other offerings.\n\n\nBhajan and Kirtan:\n\nSinging devotional songs and hymns in praise of Lord Krishna. Encourage audience participation or invite a group of singers.\n\n\nCultural Performances (Optional):\n\nOrganize a dance performance depicting scenes from Krishna’s life\, like Raas Leela\, or a short play about his childhood pranks.\n\n\nInteractive Activities for Children (Optional):\n\nOrganize fun activities for children like creating a small butter pot ( matka) out of clay\, decorating their own flutes\, or making peacock feather crafts.\n\n\nDahi Handi Competition (Optional):\n\nRecreate the playful tradition of Dahi Handi (earthen pot filled with curd) by suspending it high and forming teams to break it blindfolded. This is a fun outdoor activity\, so consider space constraints.\n\n\nFestive Feast (Prasad):\n\nPrepare and share a traditional vegetarian feast (prasad) after the puja. Popular Janmashtami dishes include sweets like laddoos and savory snacks like pakoras.
URL:https://www.dunesacademy.com/event/celebrate-the-joyful-arrival-of-lord-krishna/
CATEGORIES:Cultural
ATTACH;FMTTYPE=image/webp:https://www.dunesacademy.com/wp-content/uploads/2024/07/Celebrate-the-Joyful-Arrival-of-Lord-Krishna.webp
END:VEVENT
END:VCALENDAR